BEGIN:VCALENDAR
VERSION:2.0
PRODID:-//Esdeveniments Formentera - ECPv6.6.4//NONSGML v1.0//EN
CALSCALE:GREGORIAN
METHOD:PUBLISH
X-WR-CALNAME:Esdeveniments Formentera
X-ORIGINAL-URL:https://esdeveniments.formentera.es
X-WR-CALDESC:Events for Esdeveniments Formentera
REFRESH-INTERVAL;VALUE=DURATION:PT1H
X-Robots-Tag:noindex
X-PUBLISHED-TTL:PT1H
BEGIN:VTIMEZONE
TZID:Europe/Madrid
BEGIN:DAYLIGHT
TZOFFSETFROM:+0100
TZOFFSETTO:+0200
TZNAME:CEST
DTSTART:20240331T010000
END:DAYLIGHT
BEGIN:STANDARD
TZOFFSETFROM:+0200
TZOFFSETTO:+0100
TZNAME:CET
DTSTART:20241027T010000
END:STANDARD
END:VTIMEZONE
BEGIN:VEVENT
DTSTART;TZID=Europe/Madrid:20240927T093000
DTEND;TZID=Europe/Madrid:20240927T133000
DTSTAMP:20260422T135348
CREATED:20240917T093555Z
LAST-MODIFIED:20240925T091728Z
UID:10000045-1727429400-1727443800@esdeveniments.formentera.es
SUMMARY:Visita guiada per Formentera
DESCRIPTION:Ruta guiada per l’illa amb guia oficial per conèixer els principals llocs d’interès\, com ara els pobles\, el patrimoni cultural i els espais naturals. Podeu triar tres opcions de ruta: \n \nRuta 2: Far de Barbaria – torre des Garroveret – es Pujols – sepulcre megalític de ca na Costa – Parc Natural de ses Salines – Sant Francesc \nRuta 3: Sant Francesc – Parc Natural de ses Salines – sepulcre megalític de ca na Costa – torre de defensa de Punta Prima – es Caló – es Mirador \nDurada de la visita: de 9.30 h a 13.30 h* \nEl començament i finalització de les rutes serà a l’aparcament de sa Senieta\, a Sant Francesc. \nUs pregam que arribeu quinze minuts abans del començament de les activitats per poder començar a l’hora establerta. \nPlaces disponibles: quaranta-cinc places per ruta.\n\nCondicions:\nAquestes activitats són exclusivament per a turistes. En la inscripció haureu d’indicar on estau allotjats.\nUs pregam que arribeu quinze minuts abans del començament de les activitats per poder començar a l’hora establerta.\nAquestes activitats estan subjectes a canvis a causa de les condicions climatològiques.\nInscripcions obertes fins al 25 de setembre de 2024 a les 23:59 h.
URL:https://esdeveniments.formentera.es/agenda/visita-guiada-per-formentera/
LOCATION:Aparcament de sa Senieta\, Avinguda Vuit d'Agost\, Sant Francesc de Formentera
GEO:38.707392363543;1.4287674163526
X-APPLE-STRUCTURED-LOCATION;VALUE=URI;X-ADDRESS=Aparcament de sa Senieta Avinguda Vuit d'Agost Sant Francesc de Formentera;X-APPLE-RADIUS=500;X-TITLE=Avinguda Vuit d'Agost\, Sant Francesc de Formentera:geo:1.4287674163526,38.707392363543
END:VEVENT
BEGIN:VEVENT
DTSTART;TZID=Europe/Madrid:20240927T100000
DTEND;TZID=Europe/Madrid:20240927T120000
DTSTAMP:20260422T135348
CREATED:20240916T115225Z
LAST-MODIFIED:20240917T074140Z
UID:10000039-1727431200-1727438400@esdeveniments.formentera.es
SUMMARY:Visita al Centre d'Interpretació de Can Marroig
DESCRIPTION:Jornada de portes obertes amb visita guiada a Can Marroig. \nLa visita consisteix en una ruta guiada pel Centre d’Interpretació i Finca Pública de Can Marroig per conèixer-ne els diferents ecosistemes\, la seua biodiversitat i recórrer un dels espais més desconeguts de Formentera. \n– Horari d’obertura del centre: 9:30 h a 15 h\n– Duració de la visita: de 10 h a 12 h (2h) \nLloc: Centre d’Interpretació de Can Marroig. \nUs pregam que arribeu quinze minuts abans del començament de les activitats per poder començar a l’hora establerta. \nPlaces disponibles: trenta persones.\n\nCondicions:\nAquestes activitats són exclusivament per a turistes. En la inscripció haureu d’indicar on estau allotjats.\nUs pregam que arribeu quinze minuts abans del començament de les activitats per poder començar a l’hora establerta.\nAquestes activitats estan subjectes a canvis a causa de les condicions climatològiques.\nInscripcions obertes fins al 25 de setembre de 2024 a les 23:59 h.
URL:https://esdeveniments.formentera.es/agenda/visita-al-centre-dinterpretacio-de-can-marroig/
LOCATION:Centre d’Interpretació de Can Marroig\, Can Marroig
GEO:38.726548456655;1.3956518346102
X-APPLE-STRUCTURED-LOCATION;VALUE=URI;X-ADDRESS=Centre d’Interpretació de Can Marroig Can Marroig;X-APPLE-RADIUS=500;X-TITLE=Can Marroig:geo:1.3956518346102,38.726548456655
END:VEVENT
BEGIN:VEVENT
DTSTART;TZID=Europe/Madrid:20240928T093000
DTEND;TZID=Europe/Madrid:20240928T140000
DTSTAMP:20260422T135348
CREATED:20240917T103609Z
LAST-MODIFIED:20240924T141823Z
UID:10000051-1727515800-1727532000@esdeveniments.formentera.es
SUMMARY:Excursió amb vaixell de vela
DESCRIPTION:L’activitat consisteix en un passeig amb vaixell de vela per s’Estany des Peix\, escenari idoni per practicar esports nàutics\, aprendre conceptes bàsics de navegació i gaudir de la naturalesa d’aquest entorn tan singular. \nHorari: \n1a sortida: de 9.30 h a 11.30 h \n2a sortida: de 12.00 h a 14.00 h \nLloc: Centre d’Esports Nàutics de Formentera (CENF)\, carrer de s’Almadrava núm. 10\, la Savina. \nUs pregam que arribeu quinze minuts abans del començament de les activitats per poder començar a l’hora establerta. \nPlaces disponibles: vint places per sortida.\n\nCondicions:\nAquestes activitats són exclusivament per a turistes. En la inscripció haureu d’indicar on estau allotjats.\nUs pregam que arribeu quinze minuts abans del començament de les activitats per poder començar a l’hora establerta.\nAquestes activitats estan subjectes a canvis a causa de les condicions climatològiques.\nInscripcions obertes fins al 26 de setembre de 2024 a les 23:59 h.
URL:https://esdeveniments.formentera.es/agenda/excursio-amb-vaixell-de-vela/
LOCATION:CENF\, Carrer de s'Almadrava\, 10\, La Savina
GEO:38.732562948782;1.4148020184291
X-APPLE-STRUCTURED-LOCATION;VALUE=URI;X-ADDRESS=CENF Carrer de s'Almadrava 10 La Savina;X-APPLE-RADIUS=500;X-TITLE=Carrer de s'Almadrava\, 10\, La Savina:geo:1.4148020184291,38.732562948782
END:VEVENT
BEGIN:VEVENT
DTSTART;TZID=Europe/Madrid:20240929T110000
DTEND;TZID=Europe/Madrid:20240929T130000
DTSTAMP:20260422T135348
CREATED:20240917T105744Z
LAST-MODIFIED:20240924T135028Z
UID:10000054-1727607600-1727614800@esdeveniments.formentera.es
SUMMARY:Excursió en caiac a l'illa de s'Espalmador
DESCRIPTION:L’activitat consisteix en una excursió en caiac a l’illa de s’Espalmador des de l’escola de vela situada a la platja de ses Illetes. Durant l’excursió s’oferirà una xerrada de conscienciació ambiental amb l’objectiu de transmetre la singularitat i la fragilitat del Parc Natural de ses Salines d’Eivissa i Formentera. \nDurada: d’11.00 h a 13.00 h * \nLloc: White Sand Surf School\, platja de ses Illetes (a la zona del restaurant Es Ministre). \nUs pregam que arribeu quinze minuts abans del començament de les activitats per poder començar a l’hora establerta. \nPlaces disponibles: divuit persones.\n\nCondicions:\nAquestes activitats són exclusivament per a turistes. En la inscripció haureu d’indicar on estau allotjats.\nUs pregam que arribeu quinze minuts abans del començament de les activitats per poder començar a l’hora establerta.\nAquestes activitats estan subjectes a canvis a causa de les condicions climatològiques.\nInscripcions obertes fins al 26 de setembre de 2024 a les 23:59 h.
URL:https://esdeveniments.formentera.es/agenda/excursio-en-caiac-a-lilla-de-sespalmador/
LOCATION:Whitesand surf\, Platja de Illetes\, lot 10\, La Savina
GEO:38.758048952723;1.4352908581659
X-APPLE-STRUCTURED-LOCATION;VALUE=URI;X-ADDRESS=Whitesand surf Platja de Illetes lot 10 La Savina;X-APPLE-RADIUS=500;X-TITLE=Platja de Illetes\, lot 10\, La Savina:geo:1.4352908581659,38.758048952723
END:VEVENT
BEGIN:VEVENT
DTSTART;TZID=Europe/Madrid:20240930T093000
DTEND;TZID=Europe/Madrid:20240930T140000
DTSTAMP:20260422T135348
CREATED:20240917T114315Z
LAST-MODIFIED:20240924T145243Z
UID:10000061-1727688600-1727704800@esdeveniments.formentera.es
SUMMARY:Bateig de busseig
DESCRIPTION:El bateig és una primera experiència de busseig en què podreu descobrir els tresors submergits de Formentera\, un els millors llocs d’Europa per fer submarinisme. No es necessita experiència prèvia\, els instructors us ajudaran en tot. \nRequisits: tenir bon estat de salut. \nNens: l’edat mínima són deu anys. \n1a sortida: de 9.30 h a 11.30 h \n2a sortida: d’11.30 h a 13.30-14.00 h \nLloc: Formentera Divers\, carrer de s’Almadrava núm. 7\, port de la Savina. \nPlaces disponibles: vuit persones per sortida.\n\nCondicions:\nAquestes activitats són exclusivament per a turistes. En la inscripció haureu d’indicar on estau allotjats.\nUs pregam que arribeu quinze minuts abans del començament de les activitats per poder començar a l’hora establerta.\nAquestes activitats estan subjectes a canvis a causa de les condicions climatològiques.\nInscripcions obertes fins al 29 de setembre de 2024 a les 23:59 h.
URL:https://esdeveniments.formentera.es/agenda/bateig-de-busseig/
LOCATION:Formentera Divers\, carrer de s’Almadrava núm. 7\, port de la Savina
GEO:38.732956949901;1.4147675488061
X-APPLE-STRUCTURED-LOCATION;VALUE=URI;X-ADDRESS=Formentera Divers carrer de s’Almadrava núm. 7 port de la Savina;X-APPLE-RADIUS=500;X-TITLE=carrer de s’Almadrava núm. 7\, port de la Savina:geo:1.4147675488061,38.732956949901
END:VEVENT
BEGIN:VEVENT
DTSTART;TZID=Europe/Madrid:20240930T100000
DTEND;TZID=Europe/Madrid:20240930T180000
DTSTAMP:20260422T135348
CREATED:20240917T112148Z
LAST-MODIFIED:20240924T135925Z
UID:10000058-1727690400-1727719200@esdeveniments.formentera.es
SUMMARY:Excursió en caiac per les coves de cala Saona
DESCRIPTION:L’activitat consisteix en una excursió en caiac amb sortida des de l’escola situada a la platja. Es farà un recorregut vorejant la costa per descobrir els racons i algunes coves d’aquesta cala i gaudir de les seues meravelloses aigües cristal·lines. \nHorari: \n1a sortida: de 10.00 h a 12.00 h \n2a sortida: de 16.00 h a 18.00 h* \nLloc: Enjoy Saona\, platja de cala Saona. \nPlaces disponibles: divuit persones per sortida.\n\nCondicions:\nAquestes activitats són exclusivament per a turistes. En la inscripció haureu d’indicar on estau allotjats.\nUs pregam que arribeu quinze minuts abans del començament de les activitats per poder començar a l’hora establerta.\nAquestes activitats estan subjectes a canvis a causa de les condicions climatològiques.\nInscripcions obertes fins al 29 de setembre de 2024 a les 23:59 h.
URL:https://esdeveniments.formentera.es/agenda/excursio-en-caiac-per-les-coves-de-cala-saona/
LOCATION:Enjoy Saona\, Platja de Cala Saona
GEO:38.69309223964;1.3892881681332
X-APPLE-STRUCTURED-LOCATION;VALUE=URI;X-ADDRESS=Enjoy Saona Platja de Cala Saona;X-APPLE-RADIUS=500;X-TITLE=Platja de Cala Saona:geo:1.3892881681332,38.69309223964
END:VEVENT
END:VCALENDAR