BEGIN:VCALENDAR
VERSION:2.0
PRODID:-//Esdeveniments Formentera - ECPv6.6.4//NONSGML v1.0//EN
CALSCALE:GREGORIAN
METHOD:PUBLISH
X-WR-CALNAME:Esdeveniments Formentera
X-ORIGINAL-URL:https://esdeveniments.formentera.es
X-WR-CALDESC:Events for Esdeveniments Formentera
REFRESH-INTERVAL;VALUE=DURATION:PT1H
X-Robots-Tag:noindex
X-PUBLISHED-TTL:PT1H
BEGIN:VTIMEZONE
TZID:Europe/Madrid
BEGIN:DAYLIGHT
TZOFFSETFROM:+0100
TZOFFSETTO:+0200
TZNAME:CEST
DTSTART:20240331T010000
END:DAYLIGHT
BEGIN:STANDARD
TZOFFSETFROM:+0200
TZOFFSETTO:+0100
TZNAME:CET
DTSTART:20241027T010000
END:STANDARD
END:VTIMEZONE
BEGIN:VEVENT
DTSTART;VALUE=DATE:20240516
DTEND;VALUE=DATE:20240520
DTSTAMP:20260422T205304
CREATED:20220322T132634Z
LAST-MODIFIED:20240115T095314Z
UID:10000017-1715817600-1716163199@esdeveniments.formentera.es
SUMMARY:Formentera20
DESCRIPTION:Arriba una nova edició de Formentera20  \nLa 11a edició de les jornades de cultura digital\, creativitat i comunicació se celebrarà del 16 al 19 de maig del 2024 en l’enclavament únic que és l’illa de Formentera. \nFormentera20 està dirigit a amants de la comunicació\, creativitat\, emprenedors\, periodistes\, institucions\, departaments de comunicació i màrqueting\, estratègia\, community managers\, gestors de continguts i professionals independents que volen comunicar els seus projectes o empresa. \nL’esdeveniment és per a ments obertes i curioses que volen estar al dia del que està passant. \nLes jornades es desenvolupen en diferents espais de l’illa que faciliten la interrelació entre tots els assistents\, fomentant el networking i les relacions professionals. Una ocasió per a compartir talent i veure les últimes tendències en l’entorn digital al costat de professionals de referència. \n  \n \n* L’import de la inscripció només es retornarà en cas de força major degudament justificat juntament amb el respectiu\njustificant de pagament. Per sol·licitar-ne la devolució\, contactau amb turisme@formentera.es
URL:https://esdeveniments.formentera.es/agenda/formentera20/
LOCATION:Formentera\, Illes Balears\, 07860\, España
ATTACH;FMTTYPE=image/jpeg:https://esdeveniments.formentera.es/wp-content/uploads/2022/03/formentera20_2024_2.jpg
END:VEVENT
END:VCALENDAR