BEGIN:VCALENDAR
VERSION:2.0
PRODID:-//Esdeveniments Formentera - ECPv6.6.4//NONSGML v1.0//EN
CALSCALE:GREGORIAN
METHOD:PUBLISH
X-WR-CALNAME:Esdeveniments Formentera
X-ORIGINAL-URL:https://esdeveniments.formentera.es
X-WR-CALDESC:Events for Esdeveniments Formentera
REFRESH-INTERVAL;VALUE=DURATION:PT1H
X-Robots-Tag:noindex
X-PUBLISHED-TTL:PT1H
BEGIN:VTIMEZONE
TZID:Europe/Madrid
BEGIN:DAYLIGHT
TZOFFSETFROM:+0100
TZOFFSETTO:+0200
TZNAME:CEST
DTSTART:20220327T010000
END:DAYLIGHT
BEGIN:STANDARD
TZOFFSETFROM:+0200
TZOFFSETTO:+0100
TZNAME:CET
DTSTART:20221030T010000
END:STANDARD
BEGIN:DAYLIGHT
TZOFFSETFROM:+0100
TZOFFSETTO:+0200
TZNAME:CEST
DTSTART:20230326T010000
END:DAYLIGHT
BEGIN:STANDARD
TZOFFSETFROM:+0200
TZOFFSETTO:+0100
TZNAME:CET
DTSTART:20231029T010000
END:STANDARD
END:VTIMEZONE
BEGIN:VEVENT
DTSTART;VALUE=DATE:20230501
DTEND;VALUE=DATE:20230502
DTSTAMP:20260423T002401
CREATED:20230228T082747Z
LAST-MODIFIED:20230424T072811Z
UID:10000024-1682899200-1682985599@esdeveniments.formentera.es
SUMMARY:Formentera Zen Kids & Families
DESCRIPTION:Formentera Zen Kids & Families oferirà\, durant el pròxim dia 1 de maig\, diferents activitats sobre temàtiques variades i noves en relació al benestar holístic (físic\, mental i emocional) del conjunt de la família. \nLa trobada comptarà amb activitats creatives i innovadores adaptades per a fomentar el benestar en les famílies. En aquest sentit\, s’han dissenyat xerrades sobre pediatria i psicologia\, així com una masterclass de fitness\, que oferiran professionals nacionals de primer nivell en cada matèria i en les quals aportaran valuoses eines per al maneig posterior de situacions en l’àmbit familiar. \nAquest esdeveniment comptarà\, així mateix\, amb tallers variats per a l’entreteniment i aprenentatge dels més petits. Un pla perfecte d’oci i aprenentatge\, que s’està dissenyant des de l’àrea de turisme del Consell Insular de Formentera i Pur Benestar\, per a gaudir en família* d’aquest dia festiu. \n(*) Els nens d’edats entre 1 i 3 anys poden assistir de manera gratuïta sense necessitat d’inscriure’s \n(!) Si ets assistent de Formentera Zen 2023\, la teva assistència a Formentera Zen Kids & Families és gratuïta.
URL:https://esdeveniments.formentera.es/agenda/formentera-zen-kids-families/
ATTACH;FMTTYPE=image/png:https://esdeveniments.formentera.es/wp-content/uploads/2023/02/LOGO-FAMILY.png
END:VEVENT
BEGIN:VEVENT
DTSTART;VALUE=DATE:20220526
DTEND;VALUE=DATE:20220530
DTSTAMP:20260423T002401
CREATED:20220322T133735Z
LAST-MODIFIED:20220526T124633Z
UID:10000021-1653523200-1653868799@esdeveniments.formentera.es
SUMMARY:Formentera Fotogràfica
DESCRIPTION:Enguany se celebra la 10a edició del festival Formentera Fotogràfica del 26 al 29 de maig 2022 a Formentera.\n \nAbans de pagar\, recorda que has d’emplenar el formulari d’inscripció  de l’organitzador per indicar les diferents activitats i tallers als quals acudiràs. \n  \n \n* L’import de la inscripció només es retornarà en cas de força major degudament justificat juntament amb el respectiu\njustificant de pagament. Per sol·licitar-ne la devolució\, contactau ambturisme@formentera.es
URL:https://esdeveniments.formentera.es/agenda/formentera-fotografica/
LOCATION:Formentera\, Illes Balears\, 07860\, España
ATTACH;FMTTYPE=image/png:https://esdeveniments.formentera.es/wp-content/uploads/2022/03/formenterafoto.png
END:VEVENT
BEGIN:VEVENT
DTSTART;VALUE=DATE:20220506
DTEND;VALUE=DATE:20220509
DTSTAMP:20260423T002401
CREATED:20220322T133303Z
LAST-MODIFIED:20220419T065551Z
UID:10000019-1651795200-1652054399@esdeveniments.formentera.es
SUMMARY:Formentera Astronómica
DESCRIPTION:Xerrades temàtiques\, tallers infantils\, jocs de realitat virtual per a visitar la nostra galàxia\, sessions d’observació nocturna amb experts en astronomia i fins a un sopar gurmet en un entorn exclusiu amb vista a l’espai: la baixa contaminació lumínica i la naturalesa incontaminada de Formentera ens conviden a una cita ineludible per a tots els amants de l’illa i les estrelles. \nEntre els ponents especialitzats en astronomia comptarem amb Luisella Giulicchi\, presidenta de Women in Aerospace; Carlos Briones\, investigador del CSIC; Manuel González\, astrònom i “astrocobler”; Natalia\, Eva Ramírez\, experta en GNSS a INECO; Asier Arranz\, divulgador de la IA i l’astronomia a Nvidia; Dalila Dawid\, experta en fotografia nocturna i partner business solutions a Facebook; Miguel Ángel Molina\, director general de l’Espai en GMV; Rosa Rodríguez\, estratègia corporativa\, comunicació i cultura oceànica del SOCIB\, i Guillem D’Haro\, escriptor de Jotdown i professor en IE Business School. \n \n* L’import de la inscripció només es retornarà en cas de força major degudament justificat juntament amb el respectiu\njustificant de pagament. Per sol·licitar-ne la devolució\, contactau amb turisme@formentera.es.
URL:https://esdeveniments.formentera.es/agenda/formentera-astronomica/
LOCATION:Formentera\, Illes Balears\, 07860\, España
ATTACH;FMTTYPE=image/png:https://esdeveniments.formentera.es/wp-content/uploads/2022/03/formentera_astro.png
END:VEVENT
END:VCALENDAR