BEGIN:VCALENDAR
VERSION:2.0
PRODID:-//Esdeveniments Formentera - ECPv6.6.4//NONSGML v1.0//EN
CALSCALE:GREGORIAN
METHOD:PUBLISH
X-WR-CALNAME:Esdeveniments Formentera
X-ORIGINAL-URL:https://esdeveniments.formentera.es
X-WR-CALDESC:Events for Esdeveniments Formentera
REFRESH-INTERVAL;VALUE=DURATION:PT1H
X-Robots-Tag:noindex
X-PUBLISHED-TTL:PT1H
BEGIN:VTIMEZONE
TZID:Europe/Madrid
BEGIN:DAYLIGHT
TZOFFSETFROM:+0100
TZOFFSETTO:+0200
TZNAME:CEST
DTSTART:20240331T010000
END:DAYLIGHT
BEGIN:STANDARD
TZOFFSETFROM:+0200
TZOFFSETTO:+0100
TZNAME:CET
DTSTART:20241027T010000
END:STANDARD
END:VTIMEZONE
BEGIN:VEVENT
DTSTART;TZID=Europe/Madrid:20240929T110000
DTEND;TZID=Europe/Madrid:20240929T130000
DTSTAMP:20260422T151154
CREATED:20240917T105744Z
LAST-MODIFIED:20240924T135028Z
UID:10000054-1727607600-1727614800@esdeveniments.formentera.es
SUMMARY:Excursió en caiac a l'illa de s'Espalmador
DESCRIPTION:L’activitat consisteix en una excursió en caiac a l’illa de s’Espalmador des de l’escola de vela situada a la platja de ses Illetes. Durant l’excursió s’oferirà una xerrada de conscienciació ambiental amb l’objectiu de transmetre la singularitat i la fragilitat del Parc Natural de ses Salines d’Eivissa i Formentera. \nDurada: d’11.00 h a 13.00 h * \nLloc: White Sand Surf School\, platja de ses Illetes (a la zona del restaurant Es Ministre). \nUs pregam que arribeu quinze minuts abans del començament de les activitats per poder començar a l’hora establerta. \nPlaces disponibles: divuit persones.\n\nCondicions:\nAquestes activitats són exclusivament per a turistes. En la inscripció haureu d’indicar on estau allotjats.\nUs pregam que arribeu quinze minuts abans del començament de les activitats per poder començar a l’hora establerta.\nAquestes activitats estan subjectes a canvis a causa de les condicions climatològiques.\nInscripcions obertes fins al 26 de setembre de 2024 a les 23:59 h.
URL:https://esdeveniments.formentera.es/agenda/excursio-en-caiac-a-lilla-de-sespalmador/
LOCATION:Whitesand surf\, Platja de Illetes\, lot 10\, La Savina
GEO:38.758048952723;1.4352908581659
X-APPLE-STRUCTURED-LOCATION;VALUE=URI;X-ADDRESS=Whitesand surf Platja de Illetes lot 10 La Savina;X-APPLE-RADIUS=500;X-TITLE=Platja de Illetes\, lot 10\, La Savina:geo:1.4352908581659,38.758048952723
END:VEVENT
END:VCALENDAR