BEGIN:VCALENDAR
VERSION:2.0
PRODID:-//Esdeveniments Formentera - ECPv6.6.4//NONSGML v1.0//EN
CALSCALE:GREGORIAN
METHOD:PUBLISH
X-WR-CALNAME:Esdeveniments Formentera
X-ORIGINAL-URL:https://esdeveniments.formentera.es
X-WR-CALDESC:Events for Esdeveniments Formentera
REFRESH-INTERVAL;VALUE=DURATION:PT1H
X-Robots-Tag:noindex
X-PUBLISHED-TTL:PT1H
BEGIN:VTIMEZONE
TZID:Europe/Madrid
BEGIN:DAYLIGHT
TZOFFSETFROM:+0100
TZOFFSETTO:+0200
TZNAME:CEST
DTSTART:20240331T010000
END:DAYLIGHT
BEGIN:STANDARD
TZOFFSETFROM:+0200
TZOFFSETTO:+0100
TZNAME:CET
DTSTART:20241027T010000
END:STANDARD
END:VTIMEZONE
BEGIN:VEVENT
DTSTART;TZID=Europe/Madrid:20240928T093000
DTEND;TZID=Europe/Madrid:20240928T140000
DTSTAMP:20260422T151159
CREATED:20240917T103609Z
LAST-MODIFIED:20240924T141823Z
UID:10000051-1727515800-1727532000@esdeveniments.formentera.es
SUMMARY:Excursió amb vaixell de vela
DESCRIPTION:L’activitat consisteix en un passeig amb vaixell de vela per s’Estany des Peix\, escenari idoni per practicar esports nàutics\, aprendre conceptes bàsics de navegació i gaudir de la naturalesa d’aquest entorn tan singular. \nHorari: \n1a sortida: de 9.30 h a 11.30 h \n2a sortida: de 12.00 h a 14.00 h \nLloc: Centre d’Esports Nàutics de Formentera (CENF)\, carrer de s’Almadrava núm. 10\, la Savina. \nUs pregam que arribeu quinze minuts abans del començament de les activitats per poder començar a l’hora establerta. \nPlaces disponibles: vint places per sortida.\n\nCondicions:\nAquestes activitats són exclusivament per a turistes. En la inscripció haureu d’indicar on estau allotjats.\nUs pregam que arribeu quinze minuts abans del començament de les activitats per poder començar a l’hora establerta.\nAquestes activitats estan subjectes a canvis a causa de les condicions climatològiques.\nInscripcions obertes fins al 26 de setembre de 2024 a les 23:59 h.
URL:https://esdeveniments.formentera.es/agenda/excursio-amb-vaixell-de-vela/
LOCATION:CENF\, Carrer de s'Almadrava\, 10\, La Savina
GEO:38.732562948782;1.4148020184291
X-APPLE-STRUCTURED-LOCATION;VALUE=URI;X-ADDRESS=CENF Carrer de s'Almadrava 10 La Savina;X-APPLE-RADIUS=500;X-TITLE=Carrer de s'Almadrava\, 10\, La Savina:geo:1.4148020184291,38.732562948782
END:VEVENT
END:VCALENDAR